BEGIN:VCALENDAR
VERSION:2.0
PRODID:-//Bikemaestro - ECPv6.15.20//NONSGML v1.0//EN
CALSCALE:GREGORIAN
METHOD:PUBLISH
X-ORIGINAL-URL:https://bikemaestro.se
X-WR-CALDESC:Händelser för Bikemaestro
REFRESH-INTERVAL;VALUE=DURATION:PT1H
X-Robots-Tag:noindex
X-PUBLISHED-TTL:PT1H
BEGIN:VTIMEZONE
TZID:Europe/Stockholm
BEGIN:DAYLIGHT
TZOFFSETFROM:+0100
TZOFFSETTO:+0200
TZNAME:CEST
DTSTART:20250330T010000
END:DAYLIGHT
BEGIN:STANDARD
TZOFFSETFROM:+0200
TZOFFSETTO:+0100
TZNAME:CET
DTSTART:20251026T010000
END:STANDARD
BEGIN:DAYLIGHT
TZOFFSETFROM:+0100
TZOFFSETTO:+0200
TZNAME:CEST
DTSTART:20260329T010000
END:DAYLIGHT
BEGIN:STANDARD
TZOFFSETFROM:+0200
TZOFFSETTO:+0100
TZNAME:CET
DTSTART:20261025T010000
END:STANDARD
BEGIN:DAYLIGHT
TZOFFSETFROM:+0100
TZOFFSETTO:+0200
TZNAME:CEST
DTSTART:20270328T010000
END:DAYLIGHT
BEGIN:STANDARD
TZOFFSETFROM:+0200
TZOFFSETTO:+0100
TZNAME:CET
DTSTART:20271031T010000
END:STANDARD
END:VTIMEZONE
BEGIN:VEVENT
DTSTART;TZID=Europe/Stockholm:20260502T100000
DTEND;TZID=Europe/Stockholm:20260502T140000
DTSTAMP:20260421T152005
CREATED:20260412T064317Z
LAST-MODIFIED:20260412T064753Z
UID:5102-1777716000-1777730400@bikemaestro.se
SUMMARY:MTB-kurs Blå | Nivå 2
DESCRIPTION:MTB-kurs Blå (nivå 2)Läs mer och boka här.
URL:https://bikemaestro.se/kalender/mtb-kurs-bla-niva-2/
END:VEVENT
BEGIN:VEVENT
DTSTART;TZID=Europe/Stockholm:20260503T100000
DTEND;TZID=Europe/Stockholm:20260503T140000
DTSTAMP:20260421T152005
CREATED:20260412T064448Z
LAST-MODIFIED:20260412T064743Z
UID:5106-1777802400-1777816800@bikemaestro.se
SUMMARY:MTB-kurs Lila | Nivå 3
DESCRIPTION:MTB-kurs Lila (nivå 3)Läs mer och boka här.
URL:https://bikemaestro.se/kalender/mtb-kurs-lila-niva-3/
END:VEVENT
BEGIN:VEVENT
DTSTART;TZID=Europe/Stockholm:20260516T100000
DTEND;TZID=Europe/Stockholm:20260516T140000
DTSTAMP:20260421T152005
CREATED:20260412T064140Z
LAST-MODIFIED:20260412T064734Z
UID:5100-1778925600-1778940000@bikemaestro.se
SUMMARY:MTB-kurs Grön | Nivå 1
DESCRIPTION:MTB-kurs Grön (nivå 1)Läs mer och boka här.
URL:https://bikemaestro.se/kalender/mtb-kurs-gron-niva-1/
END:VEVENT
BEGIN:VEVENT
DTSTART;TZID=Europe/Stockholm:20260517T100000
DTEND;TZID=Europe/Stockholm:20260517T140000
DTSTAMP:20260421T152005
CREATED:20260412T064348Z
LAST-MODIFIED:20260412T064724Z
UID:5104-1779012000-1779026400@bikemaestro.se
SUMMARY:MTB-kurs Blå | Nivå 2
DESCRIPTION:MTB-kurs Blå (nivå 2)Läs mer och boka här.
URL:https://bikemaestro.se/kalender/mtb-kurs-bla-niva-2-2/
END:VEVENT
BEGIN:VEVENT
DTSTART;TZID=Europe/Stockholm:20260530T100000
DTEND;TZID=Europe/Stockholm:20260530T140000
DTSTAMP:20260421T152005
CREATED:20260412T064600Z
LAST-MODIFIED:20260412T064706Z
UID:5109-1780135200-1780149600@bikemaestro.se
SUMMARY:MTB-kurs Lila | Nivå 3
DESCRIPTION:MTB-kurs Lila (nivå 3)Läs mer och boka här.
URL:https://bikemaestro.se/kalender/mtb-kurs-lila-niva-3-2/
END:VEVENT
BEGIN:VEVENT
DTSTART;TZID=Europe/Stockholm:20260531T100000
DTEND;TZID=Europe/Stockholm:20260531T140000
DTSTAMP:20260421T152005
CREATED:20260412T065506Z
LAST-MODIFIED:20260412T065508Z
UID:5121-1780221600-1780236000@bikemaestro.se
SUMMARY:MTB-kurs Kvinnor Grön | Nivå 1
DESCRIPTION:MTB-kurs Kvinnor Grön (nivå 1)Läs mer och boka här.
URL:https://bikemaestro.se/kalender/mtb-kurs-kvinnor-gron-niva-1/
END:VEVENT
BEGIN:VEVENT
DTSTART;TZID=Europe/Stockholm:20260606T100000
DTEND;TZID=Europe/Stockholm:20260606T140000
DTSTAMP:20260421T152005
CREATED:20260412T064917Z
LAST-MODIFIED:20260412T064919Z
UID:5117-1780740000-1780754400@bikemaestro.se
SUMMARY:MTB-kurs Röd | Nivå 4
DESCRIPTION:MTB-kurs Röd (nivå 4)Läs mer och boka här.
URL:https://bikemaestro.se/kalender/mtb-kurs-rod-niva-4/
END:VEVENT
BEGIN:VEVENT
DTSTART;TZID=Europe/Stockholm:20260607T100000
DTEND;TZID=Europe/Stockholm:20260607T140000
DTSTAMP:20260421T152005
CREATED:20260412T065204Z
LAST-MODIFIED:20260412T065206Z
UID:5119-1780826400-1780840800@bikemaestro.se
SUMMARY:MTB-kurs Svart | Nivå 5
DESCRIPTION:MTB-kurs Svart (nivå 4)Läs mer och boka här.
URL:https://bikemaestro.se/kalender/mtb-kurs-svart-niva-5/
END:VEVENT
BEGIN:VEVENT
DTSTART;TZID=Europe/Stockholm:20260607T100000
DTEND;TZID=Europe/Stockholm:20260607T140000
DTSTAMP:20260421T152005
CREATED:20260412T065527Z
LAST-MODIFIED:20260412T065528Z
UID:5122-1780826400-1780840800@bikemaestro.se
SUMMARY:MTB-kurs Kvinnor Blå | Nivå 2
DESCRIPTION:MTB-kurs Kvinnor Blå (nivå 2)Läs mer och boka här.
URL:https://bikemaestro.se/kalender/mtb-kurs-kvinnor-bla-niva-2/
END:VEVENT
BEGIN:VEVENT
DTSTART;TZID=Europe/Stockholm:20260607T100000
DTEND;TZID=Europe/Stockholm:20260607T140000
DTSTAMP:20260421T152005
CREATED:20260412T065554Z
LAST-MODIFIED:20260412T065557Z
UID:5123-1780826400-1780840800@bikemaestro.se
SUMMARY:MTB-kurs Kvinnor Lila | Nivå 3
DESCRIPTION:MTB-kurs Kvinnor Lila (nivå 3)Läs mer och boka här.
URL:https://bikemaestro.se/kalender/mtb-kurs-kvinnor-lila-niva-3/
END:VEVENT
END:VCALENDAR